BEGIN:VCALENDAR
VERSION:2.0
BEGIN:VEVENT
DTSTART:20250120T123000
DURATION:PT02H00M00S
SUMMARY:[COURSE] 1η συνάντηση
DESCRIPTION:
END:VEVENT
BEGIN:VEVENT
DTSTART:20250331T123000
DURATION:PT02H00M00S
SUMMARY:[COURSE] 2η συνάντηση
DESCRIPTION:
END:VEVENT
BEGIN:VEVENT
DTSTART:20250526T123000
DURATION:PT02H00M00S
SUMMARY:[COURSE] 3η συνάντηση
DESCRIPTION:
END:VEVENT
BEGIN:VEVENT
DTSTART:20250630T123000
DURATION:PT03H00M00S
SUMMARY:[COURSE] 4η Συνάντηση
DESCRIPTION:
END:VEVENT
END:VCALENDAR
