BEGIN:VCALENDAR
VERSION:2.0
BEGIN:VEVENT
DTSTART:20180924T133000
DURATION:PT00H00M00S
SUMMARY:[COURSE] 1η Συνάντηση, Θετική Φροντίδα στην Άνοια - Οδηγίες προς φροντιστές άνοιας (1η ενότητα)
DESCRIPTION:
END:VEVENT
BEGIN:VEVENT
DTSTART:20181029T133000
DURATION:PT00H00M00S
SUMMARY:[COURSE] 2η Συνάντηση, Θετική Φροντίδα στην Άνοια - Οδηγίες προς φροντιστές άνοιας (2η ενότητα)
DESCRIPTION:
END:VEVENT
BEGIN:VEVENT
DTSTART:20181119T133000
DURATION:PT00H00M00S
SUMMARY:[COURSE] 3η συνάντηση, Άνοια: διάγνωση και θεραπεία
DESCRIPTION:
END:VEVENT
BEGIN:VEVENT
DTSTART:20190128T133000
DURATION:PT00H00M00S
SUMMARY:[COURSE] 4η συνάντηση, Θέμα: «Πτώσεις στην Τρίτη Ηλικία. Κατάκλιση και αντιμετώπιση» & «Το δικαίωμα στην «προάσπιση των δικαιωμάτων». Ζητήματα διαχείρισης μέσα από την κλινική πρακτική σε Μονάδες Ψυχοκοινωνική
DESCRIPTION:
END:VEVENT
BEGIN:VEVENT
DTSTART:20190225T133000
DURATION:PT00H00M00S
SUMMARY:[COURSE] 5η Συνάντηση, Εσωτερικός Κανονισμός Λειτουργίας ΜΨΑ
DESCRIPTION:
END:VEVENT
BEGIN:VEVENT
DTSTART:20190318T133000
DURATION:PT00H00M00S
SUMMARY:[COURSE] 6η Συνάντηση: Εσωτερικός Κανονισμός Λειτουργίας των ΜΨΑ - Πρακτικό μέρος
DESCRIPTION:
END:VEVENT
BEGIN:VEVENT
DTSTART:20190422T133000
DURATION:PT00H00M00S
SUMMARY:[COURSE] 7η Συνάντηση: Εσωτερικός Κανονισμός Λειτουργίας των ΜΨΑ - Πρακτικό μέρος
DESCRIPTION:
END:VEVENT
BEGIN:VEVENT
DTSTART:20190527T133000
DURATION:PT00H00M00S
SUMMARY:[COURSE] 8η Συνάντηση: Εσωτερικός Κανονισμός Λειτουργίας των ΜΨΑ - Πρακτικό μέρος
DESCRIPTION:
END:VEVENT
BEGIN:VEVENT
DTSTART:20190612T100000
DURATION:PT00H00M00S
SUMMARY:[COURSE] 9η Συνάντηση: Εσωτερικός Κανονισμός Λειτουργίας των ΜΨΑ - Αξιολόγηση εκπαιδευτικού ΜΨΑ
DESCRIPTION:
END:VEVENT
END:VCALENDAR
