BEGIN:VCALENDAR
VERSION:2.0
BEGIN:VEVENT
DTSTART:20181020T090000
DURATION:PT00H00M00S
SUMMARY:[COURSE] "Εισαγωγή και προγραμματισμός 2018-2019"
DESCRIPTION:
END:VEVENT
BEGIN:VEVENT
DTSTART:20181201T090000
DURATION:PT00H00M00S
SUMMARY:[COURSE] ''Τρία δοκίμια για την σεξουαλικότητα''. Σ. Φρόυντ. Α' μέρος. Παρουσίαση περιστατικού
DESCRIPTION:
END:VEVENT
BEGIN:VEVENT
DTSTART:20181215T090000
DURATION:PT00H00M00S
SUMMARY:[COURSE] «Τρία δοκίμια για την σεξουαλικότητα» Σ.Φρόυντ - Β΄Μέρος. Παρουσίαση περιστατικού
DESCRIPTION:
END:VEVENT
BEGIN:VEVENT
DTSTART:20190112T090000
DURATION:PT00H00M00S
SUMMARY:[COURSE] "Εισάγοντας το Ναρκισσισμό" - Παρουσίαση περιστατικού
DESCRIPTION:
END:VEVENT
BEGIN:VEVENT
DTSTART:20190216T090000
DURATION:PT00H00M00S
SUMMARY:[COURSE] "Ψυχολογία των μαζών και ανάλυση του Εγώ"
DESCRIPTION:
END:VEVENT
BEGIN:VEVENT
DTSTART:20190309T090000
DURATION:PT00H00M00S
SUMMARY:[COURSE] Παρουσίαση της τραγωδίας "Οιδίπους Τύραννος" του Σοφοκλή και του βιβλίου "Φόνισσα" του Α.Παπαδιαμάντη
DESCRIPTION:
END:VEVENT
BEGIN:VEVENT
DTSTART:20190406T090000
DURATION:PT00H00M00S
SUMMARY:[COURSE] "Αγχώδεις και φοβικές καταστάσεις"
DESCRIPTION:
END:VEVENT
BEGIN:VEVENT
DTSTART:20190511T090000
DURATION:PT00H00M00S
SUMMARY:[COURSE] "Υστερία"
DESCRIPTION:
END:VEVENT
BEGIN:VEVENT
DTSTART:20190608T090000
DURATION:PT00H00M00S
SUMMARY:[COURSE] "Ψυχαναγκαστική Νεύρωση"
DESCRIPTION:
END:VEVENT
END:VCALENDAR
