BEGIN:VCALENDAR
VERSION:2.0
BEGIN:VEVENT
DTSTART:20191014T133000
DURATION:PT00H00M00S
SUMMARY:[COURSE] 1η Συνάντηση: Παρουσίαση περιστατικού από τη μονάδα - Κλινική ψυχοπαθολογία (μέρος α΄)
DESCRIPTION:
END:VEVENT
BEGIN:VEVENT
DTSTART:20191203T133000
DURATION:PT00H00M00S
SUMMARY:[COURSE] 2η Συνάντηση: Παρουσίαση περιστατικού από τη μονάδα - Κλινική ψυχοπαθολογία (μέρος β΄)
DESCRIPTION:
END:VEVENT
BEGIN:VEVENT
DTSTART:20200114T133000
DURATION:PT00H00M00S
SUMMARY:[COURSE] 3η Συνάντηση: Παρουσίαση περιστατικού από τη μονάδα - Κλινική ψυχοπαθολογία (μέρος γ΄)
DESCRIPTION:
END:VEVENT
BEGIN:VEVENT
DTSTART:20200120T133000
DURATION:PT00H00M00S
SUMMARY:[COURSE] 4η Συνάντηση: Ενδυνάμωση-Ανάρρωση-Εκπαίδευση στην εργασία με ομότιμους με εμπειρία-peersupport/peerexperts (μέρος α΄)
DESCRIPTION:
END:VEVENT
BEGIN:VEVENT
DTSTART:20200217T133000
DURATION:PT00H00M00S
SUMMARY:[COURSE] 5η Συνάντηση: Ενδυνάμωση-Ανάρρωση-Εκπαίδευση στην εργασία με ομότιμους με εμπειρία-peersupport/peerexperts (μέρος β΄)
DESCRIPTION:
END:VEVENT
BEGIN:VEVENT
DTSTART:20200316T133000
DURATION:PT00H00M00S
SUMMARY:[COURSE] 6η Συνάντηση: Ενδυνάμωση-Ανάρρωση-Εκπαίδευση στην εργασία με ομότιμους με εμπειρία-peersupport/peerexperts (μέρος γ΄)
DESCRIPTION:
END:VEVENT
BEGIN:VEVENT
DTSTART:20200427T133000
DURATION:PT00H00M00S
SUMMARY:[COURSE] 7η Συνάντηση: Δυναμική Ομάδων - Ομαδική διεργασία ως θεραπευτική δραστηριότητα - όρια ειδικοτήτων - άγχη θεραπευτών - επίδραση στα μέλη (μέρος α΄)
DESCRIPTION:
END:VEVENT
BEGIN:VEVENT
DTSTART:20200518T133000
DURATION:PT00H00M00S
SUMMARY:[COURSE] 8η Συνάντηση: Δυναμική Ομάδων - Ομαδική διεργασία ως θεραπευτική δραστηριότητα - όρια ειδικοτήτων - άγχη θεραπευτών - επίδραση στα μέλη (μέρος β΄)
DESCRIPTION:
END:VEVENT
BEGIN:VEVENT
DTSTART:20200615T133000
DURATION:PT00H00M00S
SUMMARY:[COURSE] 9η Συνάντηση:Α. Δυναμική Ομάδων-Ομαδική διεργασία ως θεραπευτική δραστηριότητα-όρια ειδικοτήτων-άγχη θεραπευτών-επίδραση στα μέλη (μέρος γ΄) Β.Κλείσιμο-Αξιολόγηση-Προτάσεις για την επόμενη χρονιά
DESCRIPTION:
END:VEVENT
END:VCALENDAR
