BEGIN:VCALENDAR
VERSION:2.0
BEGIN:VEVENT
DTSTART:20191023T140000
DURATION:PT00H00M00S
SUMMARY:[COURSE] 1η Συνάντηση: Παρουσίαση κι ανάλυση περιστατικού περιστατικού-έμφαση στη διάγνωση και διαφοροδιάγνωση – κατευθυντήριες για θεραπευτική προσέγγιση
DESCRIPTION:
END:VEVENT
BEGIN:VEVENT
DTSTART:20191120T140000
DURATION:PT00H00M00S
SUMMARY:[COURSE] 2η Συνάντηση: Παρουσίαση κι ανάλυση περιστατικού περιστατικού-έμφαση στη διάγνωση και διαφοροδιάγνωση – κατευθυντήριες για θεραπευτική προσέγγιση
DESCRIPTION:
END:VEVENT
BEGIN:VEVENT
DTSTART:20191218T140000
DURATION:PT00H00M00S
SUMMARY:[COURSE] 3η Συνάντηση: Παρουσίαση κι ανάλυση περιστατικού περιστατικού-έμφαση στη διάγνωση και διαφοροδιάγνωση – κατευθυντήριες για θεραπευτική προσέγγιση
DESCRIPTION:
END:VEVENT
BEGIN:VEVENT
DTSTART:20200129T140000
DURATION:PT00H00M00S
SUMMARY:[COURSE] 4η Συνάντηση: Παρουσίαση κι ανάλυση περιστατικού περιστατικού-έμφαση στη διάγνωση και διαφοροδιάγνωση – κατευθυντήριες για θεραπευτική προσέγγιση
DESCRIPTION:
END:VEVENT
BEGIN:VEVENT
DTSTART:20200226T140000
DURATION:PT00H00M00S
SUMMARY:[COURSE] 5η Συνάντηση: Παρουσίαση κι ανάλυση περιστατικού περιστατικού-έμφαση στη διάγνωση και διαφοροδιάγνωση – κατευθυντήριες για θεραπευτική προσέγγιση
DESCRIPTION:
END:VEVENT
BEGIN:VEVENT
DTSTART:20200311T140000
DURATION:PT00H00M00S
SUMMARY:[COURSE] 6η Συνάντηση: Παρουσίαση κι ανάλυση περιστατικού περιστατικού-έμφαση στη διάγνωση και διαφοροδιάγνωση – κατευθυντήριες για θεραπευτική προσέγγιση
DESCRIPTION:
END:VEVENT
BEGIN:VEVENT
DTSTART:20200408T140000
DURATION:PT00H00M00S
SUMMARY:[COURSE] 7η Συνάντηση: Παρουσίαση κι ανάλυση περιστατικού περιστατικού-έμφαση στη διάγνωση και διαφοροδιάγνωση – κατευθυντήριες για θεραπευτική προσέγγιση
DESCRIPTION:
END:VEVENT
BEGIN:VEVENT
DTSTART:20200506T140000
DURATION:PT00H00M00S
SUMMARY:[COURSE] 8η Συνάντηση: Παρουσίαση κι ανάλυση περιστατικού περιστατικού-έμφαση στη διάγνωση και διαφοροδιάγνωση – κατευθυντήριες για θεραπευτική προσέγγιση
DESCRIPTION:
END:VEVENT
BEGIN:VEVENT
DTSTART:20200603T140000
DURATION:PT00H00M00S
SUMMARY:[COURSE] 9η Συνάντηση: Παρουσίαση κι ανάλυση περιστατικού περιστατικού-έμφαση στη διάγνωση και διαφοροδιάγνωση – κατευθυντήριες για θεραπευτική προσέγγιση
DESCRIPTION:
END:VEVENT
END:VCALENDAR
