BEGIN:VCALENDAR
VERSION:2.0
BEGIN:VEVENT
DTSTART:20191012T090000
DURATION:PT00H00M00S
SUMMARY:[COURSE] ΕΙΣΑΓΩΓΗ - ΑΝΑΘΕΣΗ ΕΡΓΑΣΙΩΝ ΕΤΟΥΣ
DESCRIPTION:
END:VEVENT
BEGIN:VEVENT
DTSTART:20191116T090000
DURATION:PT00H00M00S
SUMMARY:[COURSE] 2η Συνάντηση: Ψυχαναλυτική Προσέγγιση της Σχιζοφρενικής Ψύχωσης
DESCRIPTION:
END:VEVENT
BEGIN:VEVENT
DTSTART:20191221T090000
DURATION:PT00H00M00S
SUMMARY:[COURSE] 3η Συνάντηση: Συναισθηματική σχέση μάνας παιδιού τον πρώτο χρόνο ζωής
DESCRIPTION:
END:VEVENT
BEGIN:VEVENT
DTSTART:20200125T091500
DURATION:PT00H00M00S
SUMMARY:[COURSE] 4η Συνάντηση: Melanie Clain
DESCRIPTION:
END:VEVENT
BEGIN:VEVENT
DTSTART:20200222T091500
DURATION:PT00H00M00S
SUMMARY:[COURSE] 5η Συνάντηση: Πρωτογενής Συναισθηματική Ανάπτυξη - Winnikott
DESCRIPTION:
END:VEVENT
END:VCALENDAR
