BEGIN:VCALENDAR
VERSION:2.0
BEGIN:VEVENT
DTSTART:20200919T090000
DURATION:PT00H00M00S
SUMMARY:[COURSE] 1η Συνάντηση: Donald Winnicott (β΄μέρος)
DESCRIPTION:
END:VEVENT
BEGIN:VEVENT
DTSTART:20201024T090000
DURATION:PT00H00M00S
SUMMARY:[COURSE] 2η Συνάντηση: Ψύχωση
DESCRIPTION:
END:VEVENT
END:VCALENDAR
