BEGIN:VCALENDAR
VERSION:2.0
BEGIN:VEVENT
DTSTART:20201209T150000
DURATION:PT00H00M00S
SUMMARY:[COURSE] 1η συνάντηση: Παρουσίαση ΔΥΣΚΟΛΟΥ περιστατικού ΚΜ_ διαφοροδιαγνωση κ θεραπευτικοί χειρισμοί"
DESCRIPTION:
END:VEVENT
END:VCALENDAR
