BEGIN:VCALENDAR
VERSION:2.0
BEGIN:VEVENT
DTSTART:20210925T090000
DURATION:PT00H00M00S
SUMMARY:[COURSE] 1η Συνάντηση: Οριακές καταστάσεις και παθολογικός ναρκισσισμός
DESCRIPTION:
END:VEVENT
BEGIN:VEVENT
DTSTART:20211120T090000
DURATION:PT00H00M00S
SUMMARY:[COURSE] 2η Συνάντηση: Το έργο του Ferenczi
DESCRIPTION:
END:VEVENT
BEGIN:VEVENT
DTSTART:20211218T090000
DURATION:PT00H00M00S
SUMMARY:[COURSE] 3η Συνάντηση: ‘’Ο νους και η σχέση του με το ψυχοσώμα’’
DESCRIPTION:
END:VEVENT
BEGIN:VEVENT
DTSTART:20220122T090000
DURATION:PT00H00M00S
SUMMARY:[COURSE] 4η συνάντηση: ‘’Τραύμα’’
DESCRIPTION:
END:VEVENT
BEGIN:VEVENT
DTSTART:20220219T090000
DURATION:PT00H00M00S
SUMMARY:[COURSE] 5η συνάντηση: ‘’Αναστολή/Σύμπτωμα/Άγχος’’
DESCRIPTION:
END:VEVENT
BEGIN:VEVENT
DTSTART:20220312T090000
DURATION:PT00H00M00S
SUMMARY:[COURSE] 6η συνάντηση: ‘’Άγχος’’
DESCRIPTION:
END:VEVENT
END:VCALENDAR
