BEGIN:VCALENDAR
VERSION:2.0
BEGIN:VEVENT
DTSTART:20230130T123000
DURATION:PT03H00M00S
SUMMARY:[COURSE] 1η Συνάντηση
DESCRIPTION:
END:VEVENT
BEGIN:VEVENT
DTSTART:20230327T123000
DURATION:PT03H00M00S
SUMMARY:[COURSE] 2η Συνάντηση
DESCRIPTION:
END:VEVENT
BEGIN:VEVENT
DTSTART:20230529T123000
DURATION:PT03H00M00S
SUMMARY:[COURSE] 3η Συνάντηση
DESCRIPTION:
END:VEVENT
BEGIN:VEVENT
DTSTART:20230703T123000
DURATION:PT03H00M00S
SUMMARY:[COURSE] 4η Συνάντηση
DESCRIPTION:
END:VEVENT
END:VCALENDAR
