BEGIN:VCALENDAR
VERSION:2.0
BEGIN:VEVENT
DTSTART:20230116T130000
DURATION:PT01H30M00S
SUMMARY:[COURSE] 1η Συνάντηση
DESCRIPTION:
END:VEVENT
BEGIN:VEVENT
DTSTART:20230213T130000
DURATION:PT01H30M00S
SUMMARY:[COURSE] 2η Συνάντηση
DESCRIPTION:
END:VEVENT
BEGIN:VEVENT
DTSTART:20230313T130000
DURATION:PT01H30M00S
SUMMARY:[COURSE] 3η Συνάντηση
DESCRIPTION:
END:VEVENT
BEGIN:VEVENT
DTSTART:20230424T130000
DURATION:PT01H30M00S
SUMMARY:[COURSE] 4η Συνάντηση
DESCRIPTION:
END:VEVENT
BEGIN:VEVENT
DTSTART:20230508T130000
DURATION:PT01H30M00S
SUMMARY:[COURSE] 5η Συνάντηση
DESCRIPTION:
END:VEVENT
END:VCALENDAR
