BEGIN:VCALENDAR
VERSION:2.0
BEGIN:VEVENT
DTSTART:20221216T210000
DURATION:PT02H00M00S
SUMMARY:[COURSE] 1η Συνάντηση
DESCRIPTION:
END:VEVENT
BEGIN:VEVENT
DTSTART:20230217T210000
DURATION:PT02H00M00S
SUMMARY:[COURSE] 2η Συνάντηση
DESCRIPTION:
END:VEVENT
BEGIN:VEVENT
DTSTART:20230421T210000
DURATION:PT02H00M00S
SUMMARY:[COURSE] 3η Συνάντηση
DESCRIPTION:
END:VEVENT
BEGIN:VEVENT
DTSTART:20230526T210000
DURATION:PT02H00M00S
SUMMARY:[COURSE] 4η Συνάντηση
DESCRIPTION:
END:VEVENT
END:VCALENDAR
