BEGIN:VCALENDAR
VERSION:2.0
BEGIN:VEVENT
DTSTART:20240129T123000
DURATION:PT03H00M00S
SUMMARY:[COURSE] 1η Συνάντηση- Εκπαιδευτικό Φορέα
DESCRIPTION:
END:VEVENT
BEGIN:VEVENT
DTSTART:20240408T123000
DURATION:PT03H00M00S
SUMMARY:[COURSE] 2η Συνάντηση- Εκπαιδευτικό Φορέα
DESCRIPTION:
END:VEVENT
BEGIN:VEVENT
DTSTART:20240527T123000
DURATION:PT03H00M00S
SUMMARY:[COURSE] 3η Συνάντηση- Εκπαιδευτικό Φορέα
DESCRIPTION:
END:VEVENT
BEGIN:VEVENT
DTSTART:20240617T123000
DURATION:PT03H00M00S
SUMMARY:[COURSE] 4η Συνάντηση- Εκπαιδευτικό Φορέα (αξιολόγηση)
DESCRIPTION:
END:VEVENT
END:VCALENDAR
