BEGIN:VCALENDAR
VERSION:2.0
BEGIN:VEVENT
DTSTART:20240115T140000
DURATION:PT02H00M00S
SUMMARY:[COURSE] 1η Συνάντηση: Οριακή Διαταραχή Προσωπικότητας: Διάγνωση και Διαφοροδιάγνωση
DESCRIPTION:
END:VEVENT
BEGIN:VEVENT
DTSTART:20240226T140000
DURATION:PT02H00M00S
SUMMARY:[COURSE] 2η Συνάντηση: Δουλεύοντας με οριακούς ασθενείς: Προκλήσεις και Δυσκολίες
DESCRIPTION:
END:VEVENT
BEGIN:VEVENT
DTSTART:20240311T140000
DURATION:PT02H00M00S
SUMMARY:[COURSE] 3η Συνάντηση: Δουλεύοντας με την οικογένεια ασθενών με οριακή διαταραχή προσωπικότητας
DESCRIPTION:
END:VEVENT
BEGIN:VEVENT
DTSTART:20240422T160000
DURATION:PT02H00M00S
SUMMARY:[COURSE] 4η Συνάντηση: Οργανώνοντας μια υπηρεσία για την υποστήριξη ασθενών με οριακή διαταραχή προσωπικότητας
DESCRIPTION:
END:VEVENT
BEGIN:VEVENT
DTSTART:20240520T140000
DURATION:PT02H00M00S
SUMMARY:[COURSE] 5η Συνάντηση: Πλαισιώνοντας τους επαγγελματίες ψυχικής υγείας που εργάζονται με ασθενείς με οριακή διαταραχή προσωπικότητας
DESCRIPTION:
END:VEVENT
BEGIN:VEVENT
DTSTART:20240701T140000
DURATION:PT02H00M00S
SUMMARY:[COURSE] 6η Συνάντηση: Αξιολόγηση Εκπαιδευτικού
DESCRIPTION:
END:VEVENT
END:VCALENDAR
