BEGIN:VCALENDAR
VERSION:2.0
BEGIN:VEVENT
DTSTART:20240122T120000
DURATION:PT02H00M00S
SUMMARY:[COURSE] 1η Συνάντηση: Λήψη ιστορικού - Η πρώτη συνέντευξη
DESCRIPTION:
END:VEVENT
BEGIN:VEVENT
DTSTART:20240219T120000
DURATION:PT02H00M00S
SUMMARY:[COURSE] 2η Συνάντηση: Ψύχωση, ψυχοθεραπευτικοί χειρισμοί και ψυχαναλυτικοί χειρισμοί
DESCRIPTION:
END:VEVENT
BEGIN:VEVENT
DTSTART:20240422T120000
DURATION:PT02H00M00S
SUMMARY:[COURSE] 3η Συνάντηση: Σύντομη μελέτη της ψυχαναλυτικής θεραπείας
DESCRIPTION:
END:VEVENT
BEGIN:VEVENT
DTSTART:20240520T120000
DURATION:PT02H00M00S
SUMMARY:[COURSE] 4η Συνάντηση: Ψυχική αλλαγή. Οι προσδοκίες του ψυχοθεραπευτή στις αναλυτικές θεραπείες του με νευρωσικούς ή/και ψυχωσικούς ασθενείς
DESCRIPTION:
END:VEVENT
BEGIN:VEVENT
DTSTART:20240701T120000
DURATION:PT02H00M00S
SUMMARY:[COURSE] 5η Συνάντηση: Αξιολόγηση εκπαιδευτικού
DESCRIPTION:
END:VEVENT
END:VCALENDAR
