BEGIN:VCALENDAR
VERSION:2.0
BEGIN:VEVENT
DTSTART:20240122T113000
DURATION:PT02H00M00S
SUMMARY:[COURSE] 1η Συνάντηση: Το μοντέλο της ανάρρωσης. Στάσεις κι αντιλήψεις των επαγγελματιών ψυχικής υγείας: Δημιουργώντας την κουλτούρα της ανάρρωσης σε επαγγελματίες ψυχικής υγείας
DESCRIPTION:
END:VEVENT
BEGIN:VEVENT
DTSTART:20240226T140000
DURATION:PT02H00M00S
SUMMARY:[COURSE] 2η Συνάντηση: Δουλεύοντας με Οριακούς Ασθενείς: Προκλήσεις και Δυσκολίες
DESCRIPTION:
END:VEVENT
BEGIN:VEVENT
DTSTART:20240304T113000
DURATION:PT02H00M00S
SUMMARY:[COURSE] 3η Συνάντηση: Συνεργατικό μοντέλο και κοινή λήψη αποφάσεων. Διαχείριση φαρμακευτικής αγωγής και κρίσεων/ υποτροπών σύμφωνα με το Μοντέλο Ανάρρωσης
DESCRIPTION:
END:VEVENT
BEGIN:VEVENT
DTSTART:20240415T113000
DURATION:PT02H00M00S
SUMMARY:[COURSE] 4η Συνάντηση: Τα χαρακτηριστικά ενός Οργανισμού που προάγουν την Ανάρρωση: Φιλοσοφία, στρατηγική, παρεχόμενες υπηρεσίες, ατμόσφαιρα. Καλές πρακτικές/παραδείγματα
DESCRIPTION:
END:VEVENT
BEGIN:VEVENT
DTSTART:20240520T140000
DURATION:PT02H00M00S
SUMMARY:[COURSE] 5η Συνάντηση: Πλαισιώνοντας τους επαγγελματίες ψυχικής υγείας που εργάζονται με ασθενείς με οριακή διαταραχή προσωπικότητας
DESCRIPTION:
END:VEVENT
BEGIN:VEVENT
DTSTART:20240610T113000
DURATION:PT02H00M00S
SUMMARY:[COURSE] 6η Συνάντηση: Αξιολόγηση Εκπαιδευτικού
DESCRIPTION:
END:VEVENT
END:VCALENDAR
