BEGIN:VCALENDAR
VERSION:2.0
BEGIN:VEVENT
DTSTART:20240220T110000
DURATION:PT02H00M00S
SUMMARY:[COURSE] 1η Συνάντηση: Συμβουλευτική γονέων: Κατανοώντας βασικές έννοιες και ορισμούς
DESCRIPTION:
END:VEVENT
BEGIN:VEVENT
DTSTART:20240319T110000
DURATION:PT02H00M00S
SUMMARY:[COURSE] 2η Συνάντηση: Η συμβουλευτική γονέων στην πράξη. Βασικές δεξιότητες συμβουλευτικής και αποτελεσματικής επικοινωνίας
DESCRIPTION:
END:VEVENT
BEGIN:VEVENT
DTSTART:20240416T110000
DURATION:PT02H00M00S
SUMMARY:[COURSE] 3η Συνάντηση: Μοιράσματα εμπειριών συναδέλφων ατομικά και συλλογικά
DESCRIPTION:
END:VEVENT
BEGIN:VEVENT
DTSTART:20240528T110000
DURATION:PT02H00M00S
SUMMARY:[COURSE] 4η Συνάντηση: Αξιολόγηση Εκπαιδευτικού
DESCRIPTION:
END:VEVENT
END:VCALENDAR
